BEGIN:VCALENDAR
PRODID:TYPO3
VERSION:2.0
BEGIN:VEVENT
VTIMEZONE:Europe/Berlin
UID:521
DTSTAMP:20260930T150000
DTSTART:20260930T150000
DTEND:20261002T163000
SUMMARY:Nordrheinische Akademie: Hygiene und Desinfektion in der Arztpraxis - zur Bestellung einer/s Hygienebeauftragten gemäß § 1 Abs. 2 der Hyg-MedVO NRW (Online)
URL:https://www.akademie-nordrhein.de/kursangebot/detail/hygiene-und-desinfektion-in-der-arztpraxis-zur-bestellung-einer-s-hygienebeauftragten-gemaess-1-abs-2-der-hyg-medvo-nrw-22234
DESCRIPTION:Weitere Informationen finden Sie auf unserer Internetseite:\nhttps://www.akademie-nordrhein.de/kursangebot/detail/hygiene-und-desinfektion-in-der-arztpraxis-zur-bestellung-einer-s-hygienebeauftragten-gemaess-1-abs-2-der-hyg-medvo-nrw-22234
BEGIN:VALARM
TRIGGER:-PT1H
REPEAT:1
DURATION:PT15M
ACTION:DISPLAY
END:VALARM
END:VEVENT
END:VCALENDAR
