BEGIN:VCALENDAR
PRODID:TYPO3
VERSION:2.0
BEGIN:VEVENT
VTIMEZONE:Europe/Berlin
UID:509
DTSTAMP:20260912T081500
DTSTART:20260912T081500
DTEND:20260912T164000
SUMMARY:Nordrheinische Akademie: Medizinische Begutachtung Modul II (Online)
URL:https://www.akademie-nordrhein.de/kursangebot/detail/medizinische-begutachtung-modul-ii-22356
DESCRIPTION:Weitere Informationen finden Sie auf unserer Internetseite:\nhttps://www.akademie-nordrhein.de/kursangebot/detail/medizinische-begutachtung-modul-ii-22356
BEGIN:VALARM
TRIGGER:-PT1H
REPEAT:1
DURATION:PT15M
ACTION:DISPLAY
END:VALARM
END:VEVENT
END:VCALENDAR
